BEGIN:VCALENDAR
VERSION:2.0
PRODID:-//EWSoftware//EWSoftware PDI Class Library//EN
BEGIN:VEVENT
UID:9CC53249-9A87-48A1-9D28-30C712B5A34F
DTSTART:20260424T000000Z
DTEND:20260428T000000Z
SUMMARY:Help Create a Whiskey Glass at Vetro Glassblowing!
DESCRIPTION:Join us to craft your own Crackled Whiskey Glass from molten gl
 ass\, elevating your sipping experience with a personalized touch. Choose
  from a vibrant array of colors and witness the mesmerizing transformation
  of glowing\, molten glass up close. \nVetro’s glassblowing events are liv
 ely\, engaging\, and unforgettable! Perfect for friends\, family\, or coll
 eagues\, this hands-on experience creates lasting memories. Bring your cam
 era for incredible photo opportunities! After your session\, relax in our
  Hot Shop stadium seating and watch our skilled glassblowers work their ma
 gic. \nSpaces are limited—reserve your spot today:  https://vetroartglass.
 com/glassblowing/public-events/\nVetro Glassblowing Studio & Gallery\n701
  S. Main Street\, Suite 103\nGrapevine\, TX 76051 United States\n
LOCATION:701 S. Main Street\, Suite 103\, Grapevine\, TX 76051
URL:http://roanoke.bubblelife.com/community/roanoke_calendar/library/355447
 83/key/3511780632/Help_Create_a_Whiskey_Glass_at_Vetro_Glassblowing
CREATED:20260216T175140Z
LAST-MODIFIED:20260216T175140Z
DTSTAMP:20260421T021302Z
CLASS:PUBLIC
STATUS:CONFIRMED
TRANSP:TRANSPARENT
SEQUENCE:1
END:VEVENT
BEGIN:VEVENT
UID:4BDAEE88-0689-413A-B30A-DD0655B62E48
DTSTART:20260424T000000Z
DTEND:20260428T000000Z
SUMMARY:Help Create a Whiskey Glass at Vetro Glassblowing!
DESCRIPTION:Join us to craft your own Crackled Whiskey Glass from molten gl
 ass\, elevating your sipping experience with a personalized touch. Choose
  from a vibrant array of colors and witness the mesmerizing transformation
  of glowing\, molten glass up close. \nVetro’s glassblowing events are liv
 ely\, engaging\, and unforgettable! Perfect for friends\, family\, or coll
 eagues\, this hands-on experience creates lasting memories. Bring your cam
 era for incredible photo opportunities! After your session\, relax in our
  Hot Shop stadium seating and watch our skilled glassblowers work their ma
 gic. \nSpaces are limited—reserve your spot today:  https://vetroartglass.
 com/glassblowing/public-events/\nVetro Glassblowing Studio & Gallery\n701
  S. Main Street\, Suite 103\nGrapevine\, TX 76051 United States\n
LOCATION:701 S. Main Street\, Suite 103\, Grapevine\, TX 76051
URL:http://roanoke.bubblelife.com/community/roanoke_calendar/library/355447
 83/key/3511780974/Help_Create_a_Whiskey_Glass_at_Vetro_Glassblowing
CREATED:20260216T175140Z
LAST-MODIFIED:20260216T175140Z
DTSTAMP:20260421T021302Z
CLASS:PUBLIC
STATUS:CONFIRMED
TRANSP:TRANSPARENT
SEQUENCE:1
END:VEVENT
BEGIN:VEVENT
UID:C8411C6D-3E68-4199-96AC-3C89CBB243B6
DTSTART:20260424T000000Z
DTEND:20260428T000000Z
SUMMARY:Help Create a Whiskey Glass at Vetro Glassblowing!
DESCRIPTION:Join us to craft your own Crackled Whiskey Glass from molten gl
 ass\, elevating your sipping experience with a personalized touch. Choose
  from a vibrant array of colors and witness the mesmerizing transformation
  of glowing\, molten glass up close. \nVetro’s glassblowing events are liv
 ely\, engaging\, and unforgettable! Perfect for friends\, family\, or coll
 eagues\, this hands-on experience creates lasting memories. Bring your cam
 era for incredible photo opportunities! After your session\, relax in our
  Hot Shop stadium seating and watch our skilled glassblowers work their ma
 gic. \nSpaces are limited—reserve your spot today:  https://vetroartglass.
 com/glassblowing/public-events/\nVetro Glassblowing Studio & Gallery\n701
  S. Main Street\, Suite 103\nGrapevine\, TX 76051 United States\n
LOCATION:701 S. Main Street\, Suite 103\, Grapevine\, TX 76051
URL:http://roanoke.bubblelife.com/community/roanoke_calendar/library/355447
 83/key/3511780840/Help_Create_a_Whiskey_Glass_at_Vetro_Glassblowing
CREATED:20260216T175140Z
LAST-MODIFIED:20260216T175140Z
DTSTAMP:20260421T021302Z
CLASS:PUBLIC
STATUS:CONFIRMED
TRANSP:TRANSPARENT
SEQUENCE:1
END:VEVENT
BEGIN:VEVENT
UID:F52463BC-7E3B-48FE-87FB-FD73793F43B5
DTSTART:20260425T090000Z
DTEND:20260425T130000Z
SUMMARY:Colleyville Garden Club Plant Sale
DESCRIPTION:COLLEYVILLE GARDEN CLUB \n PLANT SALE \n April 25 \n 9 am - 1 p
 m \n Colleyville Center \n Rain or Shine \nColleyville Garden Club will be
  holding its annual PLANT SALE on Saturday\, April 25 inside the Colleyvil
 le Center\, 5301 Riverwalk Dr. The sale will run from 9 am to 1 pm. A larg
 e variety of plants will be sold\, including perennials\, annuals\, and tr
 ied-and-true plants grown in the yards of our club members. Tarrant County
  Master Gardeners and Colleyville Garden Club members will be in attendanc
 e to answer any of your questions. Cash\, checks\, Zelle\, and credit card
 s will be taken. \nLast year we sold out early so be early for the best se
 lection! \nColleyville Garden Club is a nonprofit 501(c)(3) organization.
  Proceeds from the Plant Sale will benefit projects promoting community be
 autification\, youth gardening\, and club service at nursing homes. \nVisi
 t ColleyvilleGardenClub.org for more information.\nColleyville Center\n530
 1 Riverwalk Drive\nColleyville\, TX 76034 United States\n
LOCATION:5301 Riverwalk Drive\, Colleyville\, TX 76034
URL:http://roanoke.bubblelife.com/community/roanoke_calendar/library/355447
 83/key/3511771693/Colleyville_Garden_Club_Plant_Sale
CREATED:20260323T173559Z
LAST-MODIFIED:20260323T173559Z
DTSTAMP:20260421T021302Z
CLASS:PUBLIC
STATUS:CONFIRMED
TRANSP:TRANSPARENT
SEQUENCE:1
END:VEVENT
BEGIN:VEVENT
UID:84575764-5F87-4336-A879-8642E843D7E8
DTSTART:20260425T100000Z
DTEND:20260425T130000Z
SUMMARY:A launchpad for young entrepreneurs
DESCRIPTION:Join us for the 4th Annual Change Bowl as young visionaries pit
 ch ideas to transform their communities. Be part of the impact! \n \n Wher
 e Young Visionaries Take Their Ideas Higher \nThe  Change Bowl  is more th
 an a competition—it’s a launchpad for young changemakers (ages 8–18) with
  bold visions to improve their schools and communities. Inspired by the po
 pular  Shark Tank  format\, participants take the stage to present innovat
 ive\, community-centered ideas to a panel of judges made up of local leade
 rs and changemakers. These judges will ask questions\, offer feedback\, an
 d ultimately award funding to help bring the most promising projects to li
 fe. \nThis year’s theme\,  Sky’s the Limit \, celebrates the belief that a
 ny idea\, when supported with guidance\, resources\, and opportunity\, can
  rise into something extraordinary. Change Bowl nurtures curiosity\, creat
 ivity\, and leadership\, empowering students to turn their ideas into real
 -world impact. \nJoin us as the young visionaries of North Texas take the
  stage to share their ideas and show us what’s possible when imagination m
 eets action.\nThe Vine Arts and Events Center\n334 S. Barton St.\nGrapevin
 e\, TX 76051 United States\n
LOCATION:334 S. Barton St.\, Grapevine\, TX 76051
URL:http://roanoke.bubblelife.com/community/roanoke_calendar/library/355447
 83/key/3511772240/A_launchpad_for_young_entrepreneurs
CREATED:20260410T212056Z
LAST-MODIFIED:20260410T212056Z
DTSTAMP:20260421T021302Z
CLASS:PUBLIC
STATUS:CONFIRMED
TRANSP:TRANSPARENT
SEQUENCE:1
END:VEVENT
BEGIN:VEVENT
UID:C82DFE7D-C296-49A9-B23B-4933F2609EA2
DTSTART:20260425T120000Z
DTEND:20260425T180000Z
SUMMARY:Frisco Uncorked Presented by H-E-B
DESCRIPTION:Sip\, savor\, and celebrate at Frisco Uncorked Presented by H-E
 -B! Indulge in the best local cuisine\, wine\, cocktails\, and fun! \n \nF
 risco Uncorked Presented  by  H-E-B \,  will take place on  Saturday\, Apr
 il 25th\, at  Frisco Square ! This event is  FUN & DELICIOUS \, so gather
  your friends and get ready to sip\, savor\, and celebrate! ???? Get your
  tickets now for Frisco’s most delicious event! \n✨ The 7th Annual Frisco
  Uncorked will feature hundreds of award-winning wines\, delicious bites f
 rom top local restaurants\, spirits\, shopping with a wide variety of fant
 astic local vendors\, grape stomping competitions\, fun activations\, musi
 c\, and so much more! \n \nAdditional festivities include shopping with lo
 cal vendors\, grape stomping competitions\, music\, and fun activations th
 roughout the event. Grab a partner and stomp some grapes at the Grape Stom
 ping Stage for a chance to win WINE! \nTICKETS HERE:  https://friscouncork
 ed.eventbrite.com\nFrisco Square\n8843 Coleman Boulevard\nFrisco\, 75034 U
 nited States\n
LOCATION:8843 Coleman Boulevard\, Frisco\, 75034
URL:http://roanoke.bubblelife.com/community/roanoke_calendar/library/355447
 83/key/3511722144/Frisco_Uncorked_Presented_by_H-E-B
CREATED:20260123T173843Z
LAST-MODIFIED:20260123T173843Z
DTSTAMP:20260421T021302Z
CLASS:PUBLIC
STATUS:CONFIRMED
TRANSP:TRANSPARENT
SEQUENCE:1
END:VEVENT
BEGIN:VEVENT
UID:8C7E1F29-D703-4F1A-BE5C-E1185083809E
DTSTART:20260515T170000Z
DTEND:20260517T180000Z
SUMMARY:42nd Annual Main Street Fest
DESCRIPTION:Main Street Fest is a family-friendly festival in the heart of
  Historic Grapevine\, Texas\, that is three fun-filled days of delicious e
 ats\, shopping\, a KidZone\, live music\, a carnival and midway\, Grapevin
 e Art Project Market and so much more!\nGrapevine Historic Main Street\nUn
 ited States\n
URL:http://roanoke.bubblelife.com/community/roanoke_calendar/library/355447
 83/key/3511734591/42nd_Annual_Main_Street_Fest
CREATED:20260219T215049Z
LAST-MODIFIED:20260219T215049Z
DTSTAMP:20260421T021302Z
CLASS:PUBLIC
STATUS:CONFIRMED
TRANSP:TRANSPARENT
SEQUENCE:1
END:VEVENT
METHOD:PUBLISHED
SUMMARY:Roanoke Calendar
CALSCALE:GREGORIAN
X-WR-CALNAME:Roanoke Calendar
X-WR-TIMEZONE:Central Standard Time
END:VCALENDAR
